BEGIN:VCALENDAR
VERSION:2.0
PRODID:-//Česká psychoanalytická společnost - ECPv6.15.12.2//NONSGML v1.0//EN
CALSCALE:GREGORIAN
METHOD:PUBLISH
X-WR-CALNAME:Česká psychoanalytická společnost
X-ORIGINAL-URL:https://www.psychoanalyza.cz
X-WR-CALDESC:Akce na Česká psychoanalytická společnost
REFRESH-INTERVAL;VALUE=DURATION:PT1H
X-Robots-Tag:noindex
X-PUBLISHED-TTL:PT1H
BEGIN:VTIMEZONE
TZID:Europe/Bratislava
BEGIN:DAYLIGHT
TZOFFSETFROM:+0100
TZOFFSETTO:+0200
TZNAME:CEST
DTSTART:20250330T010000
END:DAYLIGHT
BEGIN:STANDARD
TZOFFSETFROM:+0200
TZOFFSETTO:+0100
TZNAME:CET
DTSTART:20251026T010000
END:STANDARD
BEGIN:DAYLIGHT
TZOFFSETFROM:+0100
TZOFFSETTO:+0200
TZNAME:CEST
DTSTART:20260329T010000
END:DAYLIGHT
BEGIN:STANDARD
TZOFFSETFROM:+0200
TZOFFSETTO:+0100
TZNAME:CET
DTSTART:20261025T010000
END:STANDARD
BEGIN:DAYLIGHT
TZOFFSETFROM:+0100
TZOFFSETTO:+0200
TZNAME:CEST
DTSTART:20270328T010000
END:DAYLIGHT
BEGIN:STANDARD
TZOFFSETFROM:+0200
TZOFFSETTO:+0100
TZNAME:CET
DTSTART:20271031T010000
END:STANDARD
END:VTIMEZONE
BEGIN:VEVENT
DTSTART;VALUE=DATE:20260425
DTEND;VALUE=DATE:20260426
DTSTAMP:20260425T143900
CREATED:20250907T175311Z
LAST-MODIFIED:20250907T175319Z
UID:3375-1777075200-1777161599@www.psychoanalyza.cz
SUMMARY:Kleiniánský seminář (9-13)
DESCRIPTION:
URL:https://www.psychoanalyza.cz/udalosti/kleiniansky-seminar-9-13-3/
LOCATION:Česká psychoanalytická společnost z.s.\, Spálená 29\, Praha 1 – Nové Město\, 110 00\, Czech Republic
CATEGORIES:Kleiniánský seminář
END:VEVENT
END:VCALENDAR